BEGIN:VCALENDAR
VERSION:2.0
PRODID:-//ChamberMaster//Event Calendar 2.0//EN
METHOD:PUBLISH
X-PUBLISHED-TTL:P3D
REFRESH-INTERVAL:P3D
CALSCALE:GREGORIAN
BEGIN:VEVENT
DTSTART:20240423T163000Z
DTEND:20240423T180000Z
X-MICROSOFT-CDO-ALLDAYEVENT:FALSE
SUMMARY:Demystifying Artificial Intelligence Lunch & Learn
DESCRIPTION:Demystifying AI (artificial intelligence) Lunch & Learn presented by Kevin Blankenship\, Dean of Business & Technology at Vol State\n\n\n\nAI dominates the news headlines monthly with ominous warnings about how it will disrupt industries. This presentation will go behind the headlines to demystify artificial intelligence and discuss how businesses and industries can take advantage of this useful tool.
X-ALT-DESC;FMTTYPE=text/html:Demystifying AI (artificial intelligence) Lunch &amp\; Learn presented by Kevin Blankenship\, Dean of Business &amp\; Technology at Vol State<br />\n<br />\nAI dominates the news headlines monthly with ominous warnings about how it will disrupt industries. This presentation will go behind the headlines to demystify artificial intelligence and discuss how businesses and industries can take advantage of this useful tool.&nbsp\;
LOCATION:Portland Chamber of Commerce 106 Main Street Portland\, TN
UID:e.3385.1392
SEQUENCE:3
DTSTAMP:20260425T210337Z
URL:http://portlandcofctn.chambermaster.com/events/details/demystifying-artificial-intelligence-lunch-learn-1392
END:VEVENT

END:VCALENDAR
